BEGIN:VCALENDAR
PRODID:-//eluceo/ical//2.0/EN
VERSION:2.0
CALSCALE:GREGORIAN
BEGIN:VEVENT
UID:121250ee99f2081f55fa1eb040645353
DTSTAMP:20260423T095846Z
SUMMARY:RC Waldshut-Säckingen: Besuch Sektkellerei\, anschliessend Nachtes
 sen
DESCRIPTION:Referenten/innen: Termin:               Freitag\
 ,\nden 13.06.2025 – Treffen vstl. 16:30Uhr Ort:                
       Albtalstraße 14\, 79837 St.\nBlasien  \n\n\n\nLokal:     
              \nRestaurant Kamino\, HäusernUnterkunft\ndirekt
  im Clublokal - Restaurant\nKAMINO:                 \nhtt
 ps://restaurant-kamino.de/gaestezimmer/Alternativ\n5min\nFussweg     
        \n- Hotel\nAlbtalblick:                  
        \nhttps://albtalblick.de/ \n\n\n\n \n \n \n\n  https://hein
 zwagnersekt.de/\n\n \n
URL:https://rotary-zuercherweinland.ch/de/agenda/show/191110
DTSTART;TZID=Europe/Zurich:20250613T163000
DTEND;TZID=Europe/Zurich:20250613T213000
LOCATION:Sektkellerei in St. Blasien\, Firma Heinz Wagner Sekt GmbH\, Sektm
 anufaktur - Albtalstraße 14\, 79837 St. Blasien
CATEGORIES:Rotary
END:VEVENT
BEGIN:VTIMEZONE
TZID:Europe/Zurich
BEGIN:DAYLIGHT
DTSTART:20250613T163000
TZNAME:CEST
TZOFFSETTO:+0200
TZOFFSETFROM:+0200
END:DAYLIGHT
END:VTIMEZONE
END:VCALENDAR
