BEGIN:VCALENDAR
PRODID:-//eluceo/ical//2.0/EN
VERSION:2.0
CALSCALE:GREGORIAN
BEGIN:VEVENT
UID:b588651f84c6f307ec35f109b02ed612
DTSTAMP:20260421T152247Z
SUMMARY:Antrittsbesuch von Governor Andrea Weber Allenspach
DESCRIPTION:Webseite: http://www.gasthof-bahnhof.ch/\nReferenten/innen: Tra
 ditioneller Besuch von Distrikt Governor Andrea Weber Allenspach
URL:https://rotary-zuercherweinland.ch/de/agenda/show/197378
DTSTART;TZID=Europe/Zurich:20251106T121500
DTEND;TZID=Europe/Zurich:20251106T140000
LOCATION:Landgasthof zum Bahnhof\, Alte Andelfingerstrasse 2\, 8444 Henggar
 t\, Schweiz
CATEGORIES:Rotary
END:VEVENT
BEGIN:VTIMEZONE
TZID:Europe/Zurich
BEGIN:STANDARD
DTSTART:20251106T121500
TZNAME:CET
TZOFFSETTO:+0100
TZOFFSETFROM:+0100
END:STANDARD
END:VTIMEZONE
END:VCALENDAR
