BEGIN:VCALENDAR
PRODID:-//eluceo/ical//2.0/EN
VERSION:2.0
CALSCALE:GREGORIAN
BEGIN:VEVENT
UID:9d9bd4e0f4b58fadc53d48243a86e95c
DTSTAMP:20260422T104302Z
SUMMARY:Newsletter abonnieren
DESCRIPTION:
URL:https://polaris.rotary.ch/de/agenda/show/199252
DTSTART;TZID=Europe/Zurich:20990512T000000
DTEND;TZID=Europe/Zurich:20990512T010000
LOCATION:Rotary Communication Services
CATEGORIES:Rotary
END:VEVENT
BEGIN:VTIMEZONE
TZID:Europe/Zurich
BEGIN:DAYLIGHT
DTSTART:20990512T000000
TZNAME:CEST
TZOFFSETTO:+0200
TZOFFSETFROM:+0200
END:DAYLIGHT
END:VTIMEZONE
END:VCALENDAR
