BEGIN:VCALENDAR
PRODID:-//eluceo/ical//2.0/EN
VERSION:2.0
CALSCALE:GREGORIAN
BEGIN:VEVENT
UID:16cdd398816e7b83ea18fcbe2a160bfe
DTSTAMP:20260422T170338Z
SUMMARY:Swissloop – A New Journey in Transportation
DESCRIPTION:Sitio web: http://www.gasthof-bahnhof.ch/\nOrador(es): ETH Inno
 vationspark Dübendorf: Aryan MadanTeam Lead & Treasurer / swissloop ETH
  Zürich \n\n\n\nHyperloop ist die Technologie\, die den Personen- und Gü
 tertransport verändern wird. Stellen Sie sich vor\, Sie könnten in einer
  Röhre mit einer Geschwindigkeit vonbis zu1200 km/h reisen. Das ist schn
 eller als jedes andere Verkehrsmittel auf er Erde!    
URL:https://rotary-zuercherweinland.ch/es/agenda/show/182907
DTSTART;TZID=Europe/Zurich:20250306T121500
DTEND;TZID=Europe/Zurich:20250306T140000
LOCATION:Landgasthof zum Bahnhof\, Alte Andelfingerstrasse 2\, 8444 Henggar
 t\, Schweiz
CATEGORIES:Rotary
END:VEVENT
BEGIN:VTIMEZONE
TZID:Europe/Zurich
BEGIN:STANDARD
DTSTART:20250306T121500
TZNAME:CET
TZOFFSETTO:+0100
TZOFFSETFROM:+0100
END:STANDARD
END:VTIMEZONE
END:VCALENDAR
