BEGIN:VCALENDAR
PRODID:-//eluceo/ical//2.0/EN
VERSION:2.0
CALSCALE:GREGORIAN
BEGIN:VEVENT
UID:11a5535480500f347ad12e1f9cecc328
DTSTAMP:20260422T220237Z
SUMMARY:Die Bekämpfung der organisierten Kriminalität in der Schweiz
DESCRIPTION:Sitio web: http://www.gasthof-bahnhof.ch/\nOrador(es): Fabian K
 ühnerStellvertretender\nChef / Chef OperationenBundeskriminalpolizei\n/ F
 edpol------------------------------------------------------------------Auf
 nahme neues Mitglied: Nathalie Barengo------------------------------------
 ------------------------------  
URL:https://rotary-zuercherweinland.ch/es/agenda/show/183666
DTSTART;TZID=Europe/Zurich:20250206T121500
DTEND;TZID=Europe/Zurich:20250206T140000
LOCATION:Landgasthof zum Bahnhof\, Alte Andelfingerstrasse 2\, 8444 Henggar
 t\, Schweiz
CATEGORIES:Rotary
END:VEVENT
BEGIN:VTIMEZONE
TZID:Europe/Zurich
BEGIN:STANDARD
DTSTART:20250206T121500
TZNAME:CET
TZOFFSETTO:+0100
TZOFFSETFROM:+0100
END:STANDARD
END:VTIMEZONE
END:VCALENDAR
