BEGIN:VCALENDAR
PRODID:-//eluceo/ical//2.0/EN
VERSION:2.0
CALSCALE:GREGORIAN
BEGIN:VEVENT
UID:ed06da7f65a1d9837a005b68790e8fdf
DTSTAMP:20260424T094349Z
SUMMARY:„Speicher für das Netz der Zukunft“
DESCRIPTION:Sitio web: http://www.gasthof-bahnhof.ch/\nOrador(es): Dr. Davi
 d Tylor\, Unbound-potential.com«Zukunft der Speicherung von Elektrizität
 »Project House der ETH Zürich:Das\nZiel: eine innovative Lösung für di
 e langfristige Speicherung von Energie\nfinden.Neuartige Redox Flussbatter
 ie.Langzeitspeicherung erneuerbarer Energie kostengünstiger\,\nnachhaltig
 er und effizienter.Verwendung von nicht-mischbaren Elektrolyten kommt sie 
 ohne\nIonentransfer-Membran aus
URL:https://rotary-zuercherweinland.ch/es/agenda/show/185553
DTSTART;TZID=Europe/Zurich:20250220T121500
DTEND;TZID=Europe/Zurich:20250220T140000
LOCATION:Landgasthof zum Bahnhof\, Alte Andelfingerstrasse 2\, 8444 Henggar
 t\, Schweiz
CATEGORIES:Rotary
END:VEVENT
BEGIN:VTIMEZONE
TZID:Europe/Zurich
BEGIN:STANDARD
DTSTART:20250220T121500
TZNAME:CET
TZOFFSETTO:+0100
TZOFFSETFROM:+0100
END:STANDARD
END:VTIMEZONE
END:VCALENDAR
