BEGIN:VCALENDAR
PRODID:-//eluceo/ical//2.0/EN
VERSION:2.0
CALSCALE:GREGORIAN
BEGIN:VEVENT
UID:64c65e8673e5926029ecaa1f4f19e0bf
DTSTAMP:20260422T232208Z
SUMMARY:"Giessereiindustrie im Wandel" Konsequenzen für Zulieferer und Kun
 dschaft
DESCRIPTION:Sitio web: http://www.gasthof-bahnhof.ch/\nOrador(es): Unser Cl
 ubmitglied Fredi Steiner berichtet aus seiner "Giessereizeit"
URL:https://rotary-zuercherweinland.ch/es/agenda/show/187580
DTSTART;TZID=Europe/Zurich:20250116T121500
DTEND;TZID=Europe/Zurich:20250116T140000
LOCATION:Landgasthof zum Bahnhof\, Alte Andelfingerstrasse 2\, 8444 Henggar
 t\, Schweiz
CATEGORIES:Rotary
END:VEVENT
BEGIN:VTIMEZONE
TZID:Europe/Zurich
BEGIN:STANDARD
DTSTART:20250116T121500
TZNAME:CET
TZOFFSETTO:+0100
TZOFFSETFROM:+0100
END:STANDARD
END:VTIMEZONE
END:VCALENDAR
