BEGIN:VCALENDAR
PRODID:-//eluceo/ical//2.0/EN
VERSION:2.0
CALSCALE:GREGORIAN
BEGIN:VEVENT
UID:76046ff38d5a7cb44430b77664e05b34
DTSTAMP:20260423T002521Z
SUMMARY:Gemeinsamer Anlass mit dem RC Waldshut-Säckingen
DESCRIPTION:Sito web: http://www.ochsen-truellikon.ch\nRelatore/i: Gemeinsa
 mer Anlass mit den Freunden und Freundinnen des RC Waldshut-Säckingen
URL:https://rotary-zuercherweinland.ch/it/agenda/show/168955
DTSTART;TZID=Europe/Zurich:20240510T173000
DTEND;TZID=Europe/Zurich:20240510T213000
LOCATION:Restaurant Ochsen Trüllikon
CATEGORIES:Rotary
END:VEVENT
BEGIN:VTIMEZONE
TZID:Europe/Zurich
BEGIN:DAYLIGHT
DTSTART:20240510T173000
TZNAME:CEST
TZOFFSETTO:+0200
TZOFFSETFROM:+0200
END:DAYLIGHT
END:VTIMEZONE
END:VCALENDAR
