BEGIN:VCALENDAR
PRODID:-//eluceo/ical//2.0/EN
VERSION:2.0
CALSCALE:GREGORIAN
BEGIN:VEVENT
UID:44fbfdb7b0c01482a97999492f5921f3
DTSTAMP:20260423T010152Z
SUMMARY:Barrierefreie Orte - immer noch ein Wunschdenken?
DESCRIPTION:Sito web: http://www.loewen-dacarlo.ch\nRelatore/i: Zineb Benkh
 elifa\, Beauftragte für die Gleichstellung von Menschen mit Behinderung
URL:https://rotary-zuercherweinland.ch/it/agenda/show/168957
DTSTART;TZID=Europe/Zurich:20240229T121500
DTEND;TZID=Europe/Zurich:20240229T140000
LOCATION:Restaurant Löwen\, Landstrasse 38\, 8450 Andelfingen\, Schweiz
CATEGORIES:Rotary
END:VEVENT
BEGIN:VTIMEZONE
TZID:Europe/Zurich
BEGIN:STANDARD
DTSTART:20240229T121500
TZNAME:CET
TZOFFSETTO:+0100
TZOFFSETFROM:+0100
END:STANDARD
END:VTIMEZONE
END:VCALENDAR
