BEGIN:VCALENDAR
PRODID:-//eluceo/ical//2.0/EN
VERSION:2.0
CALSCALE:GREGORIAN
BEGIN:VEVENT
UID:228af45d2019d153c976babfb97b1402
DTSTAMP:20260422T203900Z
SUMMARY:MS-Grillsonntag
DESCRIPTION:Relatore/i: Peter Schwarz organisiert den bewährten hands-on A
 nlass.
URL:https://rotary-zuercherweinland.ch/it/agenda/show/168959
DTSTART;TZID=Europe/Zurich:20240616T100000
DTEND;TZID=Europe/Zurich:20240616T170000
LOCATION:Warpel Embrach
CATEGORIES:Rotary
END:VEVENT
BEGIN:VTIMEZONE
TZID:Europe/Zurich
BEGIN:DAYLIGHT
DTSTART:20240616T100000
TZNAME:CEST
TZOFFSETTO:+0200
TZOFFSETFROM:+0200
END:DAYLIGHT
END:VTIMEZONE
END:VCALENDAR
