BEGIN:VCALENDAR
PRODID:-//eluceo/ical//2.0/EN
VERSION:2.0
CALSCALE:GREGORIAN
BEGIN:VEVENT
UID:054aa392493d877c435b49ed0a97fd02
DTSTAMP:20260423T010523Z
SUMMARY:Botzheiterefaane - Sprache und Gesellschaft im Wandel
DESCRIPTION:Sito web: http://www.loewen-dacarlo.ch\nRelatore/i: Christian S
 chmid\, Mundartexperte\, ehemals Redaktor "Schnabelweid" bei Radio SRF
URL:https://rotary-zuercherweinland.ch/it/agenda/show/168994
DTSTART;TZID=Europe/Zurich:20240404T121500
DTEND;TZID=Europe/Zurich:20240404T140000
LOCATION:Restaurant Löwen\, Landstrasse 38\, 8450 Andelfingen\, Schweiz
CATEGORIES:Rotary
END:VEVENT
BEGIN:VTIMEZONE
TZID:Europe/Zurich
BEGIN:DAYLIGHT
DTSTART:20240404T121500
TZNAME:CEST
TZOFFSETTO:+0200
TZOFFSETFROM:+0200
END:DAYLIGHT
END:VTIMEZONE
END:VCALENDAR
