BEGIN:VCALENDAR
PRODID:-//eluceo/ical//2.0/EN
VERSION:2.0
CALSCALE:GREGORIAN
BEGIN:VEVENT
UID:26fcbbf1c20752a48d48bbfb4c0bc613
DTSTAMP:20260421T153604Z
SUMMARY:Neujahrs-Apéritif
DESCRIPTION:Relatore/i: Wir stossen gemeinsam auf das neue Jahr an - mit ei
 nem guten Schluck Wein oder Schaumwein und ein paar Häppchen.
URL:https://rotary-zuercherweinland.ch/it/agenda/show/170140
DTSTART;TZID=Europe/Zurich:20240105T163000
DTEND;TZID=Europe/Zurich:20240105T183000
LOCATION:Keller Weinbau\, Hauptstrasse 2\, 8468 Waltalingen
CATEGORIES:Rotary
END:VEVENT
BEGIN:VTIMEZONE
TZID:Europe/Zurich
BEGIN:STANDARD
DTSTART:20240105T163000
TZNAME:CET
TZOFFSETTO:+0100
TZOFFSETFROM:+0100
END:STANDARD
END:VTIMEZONE
END:VCALENDAR
