BEGIN:VCALENDAR
PRODID:-//eluceo/ical//2.0/EN
VERSION:2.0
CALSCALE:GREGORIAN
BEGIN:VEVENT
UID:8440f7e9d5596acb788bc805ba925f76
DTSTAMP:20260422T211126Z
SUMMARY:Generation Z - die Zukunftsgeneration verstehen
DESCRIPTION:Sito web: http://www.gasthof-bahnhof.ch/\nRelatore/i: Alex Blun
 schi\, 16 Jahre bei SRF 3\, erzählt uns\, wie die Generation Z abgeholt u
 nd begeistert werden kann 
URL:https://rotary-zuercherweinland.ch/it/agenda/show/171786
DTSTART;TZID=Europe/Zurich:20240502T121500
DTEND;TZID=Europe/Zurich:20240502T140000
LOCATION:Landgasthof zum Bahnhof\, Alte Andelfingerstrasse 2\, 8444 Henggar
 t\, Schweiz
CATEGORIES:Rotary
END:VEVENT
BEGIN:VTIMEZONE
TZID:Europe/Zurich
BEGIN:DAYLIGHT
DTSTART:20240502T121500
TZNAME:CEST
TZOFFSETTO:+0200
TZOFFSETFROM:+0200
END:DAYLIGHT
END:VTIMEZONE
END:VCALENDAR
