BEGIN:VCALENDAR
PRODID:-//eluceo/ical//2.0/EN
VERSION:2.0
CALSCALE:GREGORIAN
BEGIN:VEVENT
UID:53c220e0e21269c85bc059cb0ba0f6c7
DTSTAMP:20260423T015915Z
SUMMARY:Hilfe zur Selbsthilfe - Solidarmed\, Zusammenarbeit\, die wirkt
DESCRIPTION:Sito web: http://www.gasthof-bahnhof.ch/\nRelatore/i: Ilse Van 
 Roy 
URL:https://rotary-zuercherweinland.ch/it/agenda/show/173172
DTSTART;TZID=Europe/Zurich:20240418T121500
DTEND;TZID=Europe/Zurich:20240418T140000
LOCATION:Landgasthof zum Bahnhof\, Alte Andelfingerstrasse 2\, 8444 Henggar
 t\, Schweiz
CATEGORIES:Rotary
END:VEVENT
BEGIN:VTIMEZONE
TZID:Europe/Zurich
BEGIN:DAYLIGHT
DTSTART:20240418T121500
TZNAME:CEST
TZOFFSETTO:+0200
TZOFFSETFROM:+0200
END:DAYLIGHT
END:VTIMEZONE
END:VCALENDAR
