BEGIN:VCALENDAR
PRODID:-//eluceo/ical//2.0/EN
VERSION:2.0
CALSCALE:GREGORIAN
BEGIN:VEVENT
UID:860280ece71a96f4e59dd6caff043ffe
DTSTAMP:20260423T002054Z
SUMMARY:Abdankungsfeier Rot. Hans Lutz
DESCRIPTION:Sito web: https://www.ref-sh.ch/kg/buchberg-ruedlingen/kirche\n
 Relatore/i: Wir erweisen unserem langjährigen\, rotarischen Freund die le
 tzte Ehre. - Es ist mit einem grossen Besucheraufmarsch zu rechnen. Deshal
 b empfehlen wir frühzeitig anzureisen. \n\nNach der Gedenkfeier sind all
 e herzlich zu einem Beisammensein eingeladen. - Die Beisetzung findet im 
 engsten Familienkreis statt.
URL:https://rotary-zuercherweinland.ch/it/agenda/show/176943
DTSTART;TZID=Europe/Zurich:20240430T140000
DTEND;TZID=Europe/Zurich:20240430T150000
LOCATION:Evang. Ref. Kirche Buchberg Rüdlingen\, Dorfstrasse\, Buchberg
CATEGORIES:Rotary
END:VEVENT
BEGIN:VTIMEZONE
TZID:Europe/Zurich
BEGIN:DAYLIGHT
DTSTART:20240430T140000
TZNAME:CEST
TZOFFSETTO:+0200
TZOFFSETFROM:+0200
END:DAYLIGHT
END:VTIMEZONE
END:VCALENDAR
