BEGIN:VCALENDAR
PRODID:-//eluceo/ical//2.0/EN
VERSION:2.0
CALSCALE:GREGORIAN
BEGIN:VEVENT
UID:fc37fd95bfac19fa2a1cccb292af6094
DTSTAMP:20260420T053922Z
SUMMARY:Rieter Spinnereimaschinenhersteller: Gestern / Heute / Zukunft ?
DESCRIPTION:Sito web: http://www.gasthof-bahnhof.ch/\nRelatore/i: Thomas Wa
 lther Rieter -seit 225 Jahren- ist der weltweit führende Anbieter von Sy
 stemen für die Herstellung von Garn aus Stapelfasern in Spinnereien.
URL:https://rotary-zuercherweinland.ch/it/agenda/show/190782
DTSTART;TZID=Europe/Zurich:20250417T121500
DTEND;TZID=Europe/Zurich:20250417T140000
LOCATION:Landgasthof zum Bahnhof\, Alte Andelfingerstrasse 2\, 8444 Henggar
 t\, Schweiz
CATEGORIES:Rotary
END:VEVENT
BEGIN:VTIMEZONE
TZID:Europe/Zurich
BEGIN:DAYLIGHT
DTSTART:20250417T121500
TZNAME:CEST
TZOFFSETTO:+0200
TZOFFSETFROM:+0200
END:DAYLIGHT
END:VTIMEZONE
END:VCALENDAR
