BEGIN:VCALENDAR
PRODID:-//eluceo/ical//2.0/EN
VERSION:2.0
CALSCALE:GREGORIAN
BEGIN:VEVENT
UID:a3b68bc559f473997b8427c3a648eb2a
DTSTAMP:20260420T040052Z
SUMMARY:Geothermie: Strom aus der Tiefe
DESCRIPTION:Sito web: http://www.gasthof-bahnhof.ch/\nRelatore/i: CEO Peter
  Meierwww.geo-energie.chDie Tiefengeothermie hat in der Schweiz Potential 
 -sie könnte bei der Energiewende eine wichtige Rolle spielen.
URL:https://rotary-zuercherweinland.ch/it/agenda/show/191190
DTSTART;TZID=Europe/Zurich:20250515T121500
DTEND;TZID=Europe/Zurich:20250515T140000
LOCATION:Landgasthof zum Bahnhof\, Alte Andelfingerstrasse 2\, 8444 Henggar
 t\, Schweiz
CATEGORIES:Rotary
END:VEVENT
BEGIN:VTIMEZONE
TZID:Europe/Zurich
BEGIN:DAYLIGHT
DTSTART:20250515T121500
TZNAME:CEST
TZOFFSETTO:+0200
TZOFFSETFROM:+0200
END:DAYLIGHT
END:VTIMEZONE
END:VCALENDAR
