BEGIN:VCALENDAR
PRODID:-//eluceo/ical//2.0/EN
VERSION:2.0
CALSCALE:GREGORIAN
BEGIN:VEVENT
UID:aecf0fecead476488655943b23af0415
DTSTAMP:20260420T002632Z
SUMMARY:Mittags-Stamm
DESCRIPTION:Sito web: http://www.loewen-dacarlo.ch\nRelatore/i: 
URL:https://rotary-zuercherweinland.ch/it/agenda/show/193038
DTSTART;TZID=Europe/Zurich:20250612T121500
DTEND;TZID=Europe/Zurich:20250612T140000
LOCATION:Restaurant Löwen\, Landstrasse 38\, 8450 Andelfingen\, Schweiz
CATEGORIES:Rotary
END:VEVENT
BEGIN:VTIMEZONE
TZID:Europe/Zurich
BEGIN:DAYLIGHT
DTSTART:20250612T121500
TZNAME:CEST
TZOFFSETTO:+0200
TZOFFSETFROM:+0200
END:DAYLIGHT
END:VTIMEZONE
END:VCALENDAR
