BEGIN:VCALENDAR
PRODID:-//eluceo/ical//2.0/EN
VERSION:2.0
CALSCALE:GREGORIAN
BEGIN:VEVENT
UID:e03d8b4e0fdfca761a750496ec7e1bcc
DTSTAMP:20260420T021815Z
SUMMARY:Frühstücks-Stamm
DESCRIPTION:Sito web: http://www.schlaepfer-beck.ch\nRelatore/i: 
URL:https://rotary-zuercherweinland.ch/it/agenda/show/193039
DTSTART;TZID=Europe/Zurich:20250612T063000
DTEND;TZID=Europe/Zurich:20250612T073000
LOCATION:Café Schläpfer\, Dorfstrasse 4\, 8444 Henggart\, Schweiz
CATEGORIES:Rotary
END:VEVENT
BEGIN:VTIMEZONE
TZID:Europe/Zurich
BEGIN:DAYLIGHT
DTSTART:20250612T063000
TZNAME:CEST
TZOFFSETTO:+0200
TZOFFSETFROM:+0200
END:DAYLIGHT
END:VTIMEZONE
END:VCALENDAR
