BEGIN:VCALENDAR
PRODID:-//eluceo/ical//2.0/EN
VERSION:2.0
CALSCALE:GREGORIAN
BEGIN:VEVENT
UID:ff3d9a792cdb91088488f4176f9285a7
DTSTAMP:20260422T204210Z
SUMMARY:Mittags-Stamm
DESCRIPTION:Website: http://www.loewen-dacarlo.ch\nSprekers: 
URL:https://rotary-zuercherweinland.ch/nl/agenda/show/196257
DTSTART;TZID=Europe/Zurich:20251030T121500
DTEND;TZID=Europe/Zurich:20251030T140000
LOCATION:Restaurant Löwen\, Landstrasse 38\, 8450 Andelfingen\, Schweiz
CATEGORIES:Rotary
END:VEVENT
BEGIN:VTIMEZONE
TZID:Europe/Zurich
BEGIN:STANDARD
DTSTART:20251030T121500
TZNAME:CET
TZOFFSETTO:+0100
TZOFFSETFROM:+0100
END:STANDARD
END:VTIMEZONE
END:VCALENDAR
