BEGIN:VCALENDAR
PRODID:-//eluceo/ical//2.0/EN
VERSION:2.0
CALSCALE:GREGORIAN
BEGIN:VEVENT
UID:e53dc93220aabd507f57504bf5e61f3d
DTSTAMP:20260423T114723Z
SUMMARY:Frühstücks-Stamm
DESCRIPTION:Webbplats: http://www.schlaepfer-beck.ch\nTalare: 
URL:https://rotary-zuercherweinland.ch/sv/agenda/show/200161
DTSTART;TZID=Europe/Zurich:20251127T063000
DTEND;TZID=Europe/Zurich:20251127T073000
LOCATION:Café Schläpfer\, Dorfstrasse 4\, 8444 Henggart\, Schweiz
CATEGORIES:Rotary
END:VEVENT
BEGIN:VTIMEZONE
TZID:Europe/Zurich
BEGIN:STANDARD
DTSTART:20251127T063000
TZNAME:CET
TZOFFSETTO:+0100
TZOFFSETFROM:+0100
END:STANDARD
END:VTIMEZONE
END:VCALENDAR
