BEGIN:VCALENDAR
PRODID:-//eluceo/ical//2.0/EN
VERSION:2.0
CALSCALE:GREGORIAN
BEGIN:VEVENT
UID:d991266f2fe452df3b3b2be15b959f29
DTSTAMP:20260423T132947Z
SUMMARY:Mittags-Stamm
DESCRIPTION:Webbplats: http://www.loewen-dacarlo.ch\nTalare: 
URL:https://rotary-zuercherweinland.ch/sv/agenda/show/200162
DTSTART;TZID=Europe/Zurich:20251127T121500
DTEND;TZID=Europe/Zurich:20251127T140000
LOCATION:Restaurant Löwen\, Landstrasse 38\, 8450 Andelfingen\, Schweiz
CATEGORIES:Rotary
END:VEVENT
BEGIN:VTIMEZONE
TZID:Europe/Zurich
BEGIN:STANDARD
DTSTART:20251127T121500
TZNAME:CET
TZOFFSETTO:+0100
TZOFFSETFROM:+0100
END:STANDARD
END:VTIMEZONE
END:VCALENDAR
