BEGIN:VCALENDAR
PRODID:-//eluceo/ical//2.0/EN
VERSION:2.0
CALSCALE:GREGORIAN
BEGIN:VEVENT
UID:bb280adb4486a37bf678d8e46d895366
DTSTAMP:20260425T130028Z
SUMMARY:Rotary Frühstück
DESCRIPTION:Webbplats: http://www.schlaepfer-beck.ch\nTalare: 
URL:https://rotary-zuercherweinland.ch/sv/agenda/show/205306
DTSTART;TZID=Europe/Zurich:20260205T063000
DTEND;TZID=Europe/Zurich:20260205T073000
LOCATION:Café Schläpfer\, Dorfstrasse 4\, 8444 Henggart\, Schweiz
CATEGORIES:Rotary
END:VEVENT
BEGIN:VTIMEZONE
TZID:Europe/Zurich
BEGIN:STANDARD
DTSTART:20260205T063000
TZNAME:CET
TZOFFSETTO:+0100
TZOFFSETFROM:+0100
END:STANDARD
END:VTIMEZONE
END:VCALENDAR
